BEGIN:VCALENDAR
VERSION:2.0
PRODID:-//Troost Institute for Leadership Education in Engineering - ECPv6.15.0.1//NONSGML v1.0//EN
CALSCALE:GREGORIAN
METHOD:PUBLISH
X-ORIGINAL-URL:https://ilead.engineering.utoronto.ca
X-WR-CALDESC:Events for Troost Institute for Leadership Education in Engineering
REFRESH-INTERVAL;VALUE=DURATION:PT1H
X-Robots-Tag:noindex
X-PUBLISHED-TTL:PT1H
BEGIN:VTIMEZONE
TZID:America/Toronto
BEGIN:DAYLIGHT
TZOFFSETFROM:-0500
TZOFFSETTO:-0400
TZNAME:EDT
DTSTART:20190310T070000
END:DAYLIGHT
BEGIN:STANDARD
TZOFFSETFROM:-0400
TZOFFSETTO:-0500
TZNAME:EST
DTSTART:20191103T060000
END:STANDARD
END:VTIMEZONE
BEGIN:VEVENT
DTSTART;TZID=America/Toronto:20190926T180000
DTEND;TZID=America/Toronto:20190926T193000
DTSTAMP:20260422T180357
CREATED:20190829T002603Z
LAST-MODIFIED:20190829T203033Z
UID:7233-1569520800-1569526200@ilead.engineering.utoronto.ca
SUMMARY:Leadership Lab - Strategies for Time and Stress Management (Leadership Quick Dip!)
DESCRIPTION:Feeling the intense pressure of everything you have to do? Harness your inner self-manager to explore ways to improve your academic and personal survival skills in this interactive workshop on time and stress management. Decide which tools are most effective for you\, and get set up to think about what really matters to you in this workshop. \nProgram Details\nDate: Thursday September 26\, 2019\nTime: 6:00 – 7:30 pm\nLocation: SF3202 (10 King’s College Road\, Toronto ON )\nType: Leadership Quick Dip!
URL:https://ilead.engineering.utoronto.ca/event/leadership-lab-strategies-for-time-and-stress-management/
LOCATION:SF3202\, 10 King's College Road\, Toronto\, Ontario\, M5S 3G4\, Canada
END:VEVENT
BEGIN:VEVENT
DTSTART;TZID=America/Toronto:20190923T180000
DTEND;TZID=America/Toronto:20190923T193000
DTSTAMP:20260422T180357
CREATED:20190829T002326Z
LAST-MODIFIED:20190829T203146Z
UID:7231-1569261600-1569267000@ilead.engineering.utoronto.ca
SUMMARY:Leadership Lab - Mindsets for Magnified Motivation (Leadership Quick Dip!)
DESCRIPTION:Maybe your priorities all seem in line\, and you can motivate yourself when the pressure hits\, but something just seems to be missing to take you to the next level. Beyond striving to motivate yourself on a daily basis\, you want to thrive and improve your sense of drive and passion towards a deeper and greater vision. Join us for this workshop where you’ll explore the topic of your purpose\, and connect what needs to be done to a deeper reason that’s personally meaningful to you and those around you. \nProgram Details\nDate: Monday September 23\, 2019\nTime: 6:00 – 7:30 pm\nLocation: SF3202 (10 King’s College Road\, Toronto ON )\nType: Leadership Quick Dip!
URL:https://ilead.engineering.utoronto.ca/event/leadership-lab-mindsets-for-magnified-motivation/
LOCATION:SF3202\, 10 King's College Road\, Toronto\, Ontario\, M5S 3G4\, Canada
END:VEVENT
BEGIN:VEVENT
DTSTART;TZID=America/Toronto:20190917T180000
DTEND;TZID=America/Toronto:20190917T193000
DTSTAMP:20260422T180357
CREATED:20190829T001817Z
LAST-MODIFIED:20190829T203224Z
UID:7229-1568743200-1568748600@ilead.engineering.utoronto.ca
SUMMARY:Leadership Lab - Courage for Everyday Contexts (Leadership Quick Dip!)
DESCRIPTION:Having courage helps us to reach for the things that we really want in life\, but how do we build courage? Join us as we push our comfort zones and explore what it means to cultivate courage\, how we identify opportunities to build it\, and what it can do for our lives. Warning: be prepared for surprises! \nProgram Details\nDate: Tuesday September 17\, 2019\nTime: 6:00 – 7:30 pm\nLocation: SF3202 (10 King’s College Road\, Toronto ON )\nType: Leadership Quick Dip!
URL:https://ilead.engineering.utoronto.ca/event/leadership-lab-courage-for-everyday-contexts/
LOCATION:SF3202\, 10 King's College Road\, Toronto\, Ontario\, M5S 3G4\, Canada
END:VEVENT
BEGIN:VEVENT
DTSTART;TZID=America/Toronto:20190912T180000
DTEND;TZID=America/Toronto:20190912T193000
DTSTAMP:20260422T180357
CREATED:20190829T001602Z
LAST-MODIFIED:20190904T144006Z
UID:7227-1568311200-1568316600@ilead.engineering.utoronto.ca
SUMMARY:Leadership Lab - Searching for Shared Success - Networking (Leadership Quick Dip!)
DESCRIPTION:Meaningful social connection is shown to be strongly correlated with academic success\, mental wellbeing\, and professional success. Starting off a new year is a great opportunity to create some new relationships. Explore a different side of networking and learn how to initiate new friendships and collaborations\, foster connections with professors\, and tap into job opportunities. Learn and practice fundamental skills in this fun and interactive evening workshop. \nProgram Details\nDate: Thursday September 12\, 2019\nTime: 6:00 – 7:30 pm\nLocation: SF3202 (10 King’s College Road\, Toronto ON ) & GB202 (35 St. George Street\, Toronto ON)\nType: Leadership Quick Dip!
URL:https://ilead.engineering.utoronto.ca/event/leadership-lab-searching-for-shared-success-networking/
LOCATION:SF3202\, 10 King's College Road\, Toronto\, Ontario\, M5S 3G4\, Canada
END:VEVENT
END:VCALENDAR